BEGIN:VCALENDAR
PRODID:-//ZOHO Creator//iCal Feed//EN
VERSION:2.0
CALSCALE:GREGORIAN
X-WR-TIMEZONE:UTC
X-WR-CALNAME:Event_Management_Report
BEGIN:VEVENT
UID:35
DTSTART:20220512T100000Z
DTEND:20220512T120000Z
DESCRIPTION:<p>Our Multi&ndash\;Agency Forum will be held online\, unless we notify you otherwise. The topic will be publicised a month before the event.</p>

<p>If you represent an agency with interest in this issue\, you may sign up for circulars related to our Forum by contacting us at &laquo\;&nbsp\;forum@stop-cwa.org&nbsp\;&raquo\;.</p>

LOCATION:online
SUMMARY:Our Multi–Agency Forum held online.
SEQUENCE:0
STATUS:CONFIRMED
TRANSP:OPAQUE
END:VEVENT

END:VCALENDAR