BEGIN:VCALENDAR
PRODID:-//ZOHO Creator//iCal Feed//EN
VERSION:2.0
CALSCALE:GREGORIAN
X-WR-TIMEZONE:UTC
X-WR-CALNAME:Event_Management_Report
BEGIN:VEVENT
UID:46
DTSTART:20241205T093000Z
DTEND:20241205T123000Z
DESCRIPTION:<p>SCWA Steering Committee meet together. Review of 2024 and planning for 2025.</p>

LOCATION:online
SUMMARY:SCWA Steering Committee meetup
SEQUENCE:0
STATUS:CONFIRMED
TRANSP:OPAQUE
END:VEVENT

END:VCALENDAR