BEGIN:VCALENDAR
PRODID:-//ZOHO Creator//iCal Feed//EN
VERSION:2.0
CALSCALE:GREGORIAN
X-WR-TIMEZONE:UTC
X-WR-CALNAME:Event_Management_Report
BEGIN:VEVENT
UID:42
DTSTART:20240122T093000Z
DTEND:20240122T123000Z
DESCRIPTION:<p>SCWA Steering Committee meet together. Focus on finalising our Rolling Yearly Plan for 2024.</p>

LOCATION:online
SUMMARY:SCWA Steering Committee meetup
SEQUENCE:0
STATUS:CONFIRMED
TRANSP:OPAQUE
END:VEVENT

END:VCALENDAR